BEGIN:VCALENDAR
VERSION:2.0
PRODID:-//Imaging Austria - ECPv6.15.20//NONSGML v1.0//EN
CALSCALE:GREGORIAN
METHOD:PUBLISH
X-WR-CALNAME:Imaging Austria
X-ORIGINAL-URL:https://imaging-austria.pages.ist.ac.at
X-WR-CALDESC:Events for Imaging Austria
REFRESH-INTERVAL;VALUE=DURATION:PT1H
X-Robots-Tag:noindex
X-PUBLISHED-TTL:PT1H
BEGIN:VTIMEZONE
TZID:Europe/Vienna
BEGIN:DAYLIGHT
TZOFFSETFROM:+0100
TZOFFSETTO:+0200
TZNAME:CEST
DTSTART:20230326T010000
END:DAYLIGHT
BEGIN:STANDARD
TZOFFSETFROM:+0200
TZOFFSETTO:+0100
TZNAME:CET
DTSTART:20231029T010000
END:STANDARD
BEGIN:DAYLIGHT
TZOFFSETFROM:+0100
TZOFFSETTO:+0200
TZNAME:CEST
DTSTART:20240331T010000
END:DAYLIGHT
BEGIN:STANDARD
TZOFFSETFROM:+0200
TZOFFSETTO:+0100
TZNAME:CET
DTSTART:20241027T010000
END:STANDARD
BEGIN:DAYLIGHT
TZOFFSETFROM:+0100
TZOFFSETTO:+0200
TZNAME:CEST
DTSTART:20250330T010000
END:DAYLIGHT
BEGIN:STANDARD
TZOFFSETFROM:+0200
TZOFFSETTO:+0100
TZNAME:CET
DTSTART:20251026T010000
END:STANDARD
BEGIN:DAYLIGHT
TZOFFSETFROM:+0100
TZOFFSETTO:+0200
TZNAME:CEST
DTSTART:20260329T010000
END:DAYLIGHT
BEGIN:STANDARD
TZOFFSETFROM:+0200
TZOFFSETTO:+0100
TZNAME:CET
DTSTART:20261025T010000
END:STANDARD
BEGIN:DAYLIGHT
TZOFFSETFROM:+0100
TZOFFSETTO:+0200
TZNAME:CEST
DTSTART:20270328T010000
END:DAYLIGHT
BEGIN:STANDARD
TZOFFSETFROM:+0200
TZOFFSETTO:+0100
TZNAME:CET
DTSTART:20271031T010000
END:STANDARD
END:VTIMEZONE
BEGIN:VEVENT
DTSTART;TZID=Europe/Vienna:20260414T090000
DTEND;TZID=Europe/Vienna:20260416T170000
DTSTAMP:20260420T141148
CREATED:20260209T084504Z
LAST-MODIFIED:20260209T084504Z
UID:360-1776157200-1776358800@imaging-austria.pages.ist.ac.at
SUMMARY:DEMO: LEICA Thunder Spinning Disk (BOKU)
DESCRIPTION:Imaging Event Registration:\nIf you would like to share an event that you are organizing\, please fill in your details in this Event Registration Form below and your event will be added to the event calendar.\n\n\nName Institution:\nBOKU University\n\n\nName Organizer / Contact person:\nMonika Debreczeny\n\n\nContact Phone-Email:\nmonika.debreczeny@boku.ac.at\n\n\nContact Phone-number:\n\n\n\nChoose a event catagory:\nEquipment Demo & Workshop\n\n\nEvent Title:\nLEICA Thunder Spinning Disk\n\n\nStart Date / Time:\n04/14/2026 09:00\n\n\nEnd Date / Time:\n04/16/2026 17:00\n\n\nEvent text / abstract:\nPlease contact Leica’s Andreas Müllet at andreas.mueller@leica-microsstems.com to schedule a slot!\n\n\nEvent participation options:\nOn-site\n\n\nEvent Location Name:\nBOKU University\n\n\nEVENT URL (On-line & Hybrid):\n\n\n\nEvent location Address:\nMuthgasse 11\n\n\nZip:\n1190\n\n\nCity:\nVienna
URL:https://imaging-austria.pages.ist.ac.at/event/demo-leica-thunder-spinning-disk-boku/
LOCATION:BOKU\,  Muthgasse 11\, Vienna\, Muthgasse 11\, Vienna\, 1190\, Austria
CATEGORIES:Demo
ORGANIZER;CN="BOKU Core Facility Multiscale Imaging":MAILTO:msi@boku.ac.at
END:VEVENT
BEGIN:VEVENT
DTSTART;VALUE=DATE:20251015
DTEND;VALUE=DATE:20251025
DTSTAMP:20260420T141148
CREATED:20250716T104930Z
LAST-MODIFIED:20250716T104930Z
UID:327-1760486400-1761350399@imaging-austria.pages.ist.ac.at
SUMMARY:DEMO: Zeiss LSM 990 Lightfield 4D
DESCRIPTION:  \n\n\n\nEvent:\nDEMO: Zeiss LSM 990 + Lightfield 4D\n\n\nName Institution:\nBOKU University\n\n\nName Organizer / Contact person:\nMonika Debreczeny\n\n\nContact Phone-Email:\nmsi@boku.ac.at\n\n\n\n\n\n\nEvent details:\nEquipment Demo & Workshop\n\n\nEvent Title:\nZeiss LSM 990 Lightfield 4D\n\n\nStart Date / Time:\n10/15/2025 09:00\n\n\nEnd Date / Time:\n10/24/2025 17:00\n\n\nEvent text / abstract:\nExplore the newest addition to the Zeiss lineup! Anyone can book a slot.\nThe first two days (15-16 Oct 2025) Christine Strasser from Zeiss will host the sessions (signup sheet sent out by Zeiss)\, the following days BOKU CF MSI will assist you. Please email for signing up and provide description of sample.\nNote: temperature and CO2 incubation will be available.\n\n\nEvent participation options:\nOn-site\n\n\nEvent Location Name:\nBOKU University Core Facility Multiscale Imaging
URL:https://imaging-austria.pages.ist.ac.at/event/demo-zeiss-lsm-990-lightfield-4d/
LOCATION:BOKU\,  Muthgasse 11\, Vienna\, Muthgasse 11\, Vienna\, 1190\, Austria
CATEGORIES:Demo
ORGANIZER;CN="BOKU Core Facility Multiscale Imaging":MAILTO:msi@boku.ac.at
END:VEVENT
BEGIN:VEVENT
DTSTART;VALUE=DATE:20250303
DTEND;VALUE=DATE:20250306
DTSTAMP:20260420T141148
CREATED:20250211T151744Z
LAST-MODIFIED:20250211T151744Z
UID:271-1740960000-1741219199@imaging-austria.pages.ist.ac.at
SUMMARY:demo: TOMOCUBE @BOKU
DESCRIPTION:Name Institution:\nBOKU University\n\n\nName Organizer / Contact person:\nMonika Debreczeny\n\n\nContact Phone-Email:\nmsi@boku.ac.at\n\n\nContact Phone-number:\n+43 1 4765435031\n\n\nChoose a event catagory:\nEquipment Demo & Workshop\n\n\nEvent Title:\nTOMOCUBE demo @BOKU\n\n\nStart Date / Time:\n03/03/2025 14:00\n\n\nEnd Date / Time:\n03/07/2025 10:00\n\n\nEvent text / abstract:\nHolographic\, label-free imaging of cells\, tissues\, organoids in a happy environment.\nWere you interested\, please contact us\, we will send you sample preparation guides.\nmsi@boku.ac.at\n\n\nEvent participation options:\nOn-site\n\n\nEvent Location Name:\nBOKU CF Multiscale Imaging\n\n\nEVENT URL (On-line & Hybrid):\nhttps://bokuvienna.zoom.us/j/65965610563?pwd=JIMSMvIoMmi8dfjVBb9wzeaTYVZBYy.1\n\n\nEvent location Address:\nU2/09\, Muthgasse 11\,\n\n\nZip:\n1190\n\n\nCity:\nVienna
URL:https://imaging-austria.pages.ist.ac.at/event/demo-tomocube-boku/
LOCATION:BOKU\,  Muthgasse 11\, Vienna\, Muthgasse 11\, Vienna\, 1190\, Austria
CATEGORIES:Demo
ORGANIZER;CN="BOKU Core Facility Multiscale Imaging":MAILTO:msi@boku.ac.at
END:VEVENT
BEGIN:VEVENT
DTSTART;TZID=Europe/Vienna:20250210T080000
DTEND;TZID=Europe/Vienna:20250228T170000
DTSTAMP:20260420T141148
CREATED:20241009T142155Z
LAST-MODIFIED:20241009T142252Z
UID:251-1739174400-1740762000@imaging-austria.pages.ist.ac.at
SUMMARY:ISTA – Workshop: CSR-biotech Mu-SIM & microscopyX Finer | Feb 10 – 28 (3 wks)
DESCRIPTION:ISTA is hosting a 3 weeks workshop to provide insight and hands-on experience on the Mu-SIM from CSR-biotech. \n  \n\n\n\nChoose a event category:\nEquipment Demo & Workshop\n\n\nEvent Title:\nDEMO2024: CSR-biotech Mu-SIM & microscopyX Finer\n\n\nStart Date / Time:\n02/10/2025 00:00\n\n\nEnd Date / Time:\n02/28/2025 00:00\n\n\n\n\n\n\nEvent participation options:\nOn-site\n\n\nEvent Location Name:\nISTA/IOF\n\n\nEVENT URL (On-line & Hybrid):\nhttps://iof.pages.ist.ac.at/event/demo2024-csr-mu-sim/?instance_id=793\n\n\nEvent location Address:\nAm Campus 1\n\n\nZip:\n3400\n\n\nCity:\nKlosterneuburg
URL:https://imaging-austria.pages.ist.ac.at/event/251/
LOCATION:ISTA\, Am Campus 1\, Klosterneuburg\, 3400\, Austria
CATEGORIES:Demo
ORGANIZER;CN="ISTA":MAILTO:iof@ist.ac.at
END:VEVENT
BEGIN:VEVENT
DTSTART;TZID=Europe/Vienna:20250120T090000
DTEND;TZID=Europe/Vienna:20250331T170000
DTSTAMP:20260420T141148
CREATED:20250107T155343Z
LAST-MODIFIED:20250107T170406Z
UID:264-1737363600-1743440400@imaging-austria.pages.ist.ac.at
SUMMARY:ISTA - Workshop: Nikon AXR confocal + Smart Microscopy workshop | Jan 15 - March 31\, 2025
DESCRIPTION:
URL:https://imaging-austria.pages.ist.ac.at/event/demo2025-nikon-axr-confocal-workshop/
LOCATION:ISTA\, Am Campus 1\, Klosterneuburg\, 3400\, Austria
CATEGORIES:Demo
ORGANIZER;CN="ISTA":MAILTO:iof@ist.ac.at
END:VEVENT
BEGIN:VEVENT
DTSTART;TZID=Europe/Vienna:20241217T100000
DTEND;TZID=Europe/Vienna:20241217T170000
DTSTAMP:20260420T141148
CREATED:20241204T091822Z
LAST-MODIFIED:20241204T091822Z
UID:259-1734429600-1734454800@imaging-austria.pages.ist.ac.at
SUMMARY:BOKU: Tecan "Spark Cyto"
DESCRIPTION:  \nthe Boku Bioimaging Tecan “Spark Cyto” plate reader demo on 17.12\, starting at ~10:00. \n BOKU Core Facilities\n Institut für Molekulare Pflanzenbiologie \nfor more details\, please contact: Monika Debreczmonika.debreczeny@boku.ac.ateny
URL:https://imaging-austria.pages.ist.ac.at/event/boku-tecan-spark-cyto/
LOCATION:BOKU\,  Muthgasse 11\, Vienna\, Muthgasse 11\, Vienna\, 1190\, Austria
CATEGORIES:Demo
ORGANIZER;CN="BOKU Core Facility Multiscale Imaging":MAILTO:msi@boku.ac.at
END:VEVENT
BEGIN:VEVENT
DTSTART;TZID=Europe/Vienna:20241024T090000
DTEND;TZID=Europe/Vienna:20241024T170000
DTSTAMP:20260420T141148
CREATED:20240924T063519Z
LAST-MODIFIED:20240924T072510Z
UID:216-1729760400-1729789200@imaging-austria.pages.ist.ac.at
SUMMARY:Max Perutz Labs: TIRF demo/workshops at MPL - October 2024
DESCRIPTION:Visitron will showcase their FRAP/RING-TIRF system (October 15-17). Limited slots available!  please send a brief description in case an own sample is to be imaged.\n \nAbbelight/Evident will demo their ASTER-TIRF/STORM solution from October 22 to October 24/25.  October 24 is principally reserved for external facilities. \n\n\n\nName Institution:\nMax Perutz Labs\n\n\nName Organizer / Contact person:\nJosef Gotzmann\n\n\nContact Phone-Email:\njosef.gotzmann@meduniwien.ac.at\n\n\nContact Phone-number:\n06648001635200\n\n\nChoose a event catagory:\nEquipment Demo & Workshop\n\n\nEvent Title:\nWorkshop TIRF Demo – Abbelight/Evident\n\n\nStart Date / Time:\n10/24/2024 09:00\n\n\nEnd Date / Time:\n10/24/2024 17:00\n\n\nEvent text / abstract:\nWe demo the TIRF system from Abbelight. They use the ASTER technology\, which allows big FOV and single-molecule applications (STORM) with all laser lines. For more information please check: https://www.abbelight.com/technology/\n\n\nEvent participation options:\nOn-site\n\n\n\n\n\n\n\n\n\n\n\n\n\n\n\n\n\n\n\n\n\n\n\n\n\n\n  \n 
URL:https://imaging-austria.pages.ist.ac.at/event/max-perutz-labs-tirf-demo-workshops-at-mpl-october-2024/
LOCATION:Max Perutz Labs\, Max Perutz Labs\, Dr. Bohrgasse 9\, Level 1\, Vienna\, Austria
CATEGORIES:Demo
ORGANIZER;CN="Josef Gotzmann":MAILTO:Josef Gotzmann
END:VEVENT
BEGIN:VEVENT
DTSTART;VALUE=DATE:20240925
DTEND;VALUE=DATE:20240926
DTSTAMP:20260420T141148
CREATED:20240924T074444Z
LAST-MODIFIED:20240924T074732Z
UID:242-1727222400-1727308799@imaging-austria.pages.ist.ac.at
SUMMARY:ISTA - Demonstration: Teledyne camera’s & QC discussion
DESCRIPTION:Demonstration of Teledyne camera’s & QC discussion\n\n\n\nLocation: ISTA Klosterneuburg\, Austria \ncamera’s to test:  \n\nKINETIX\nRetiga E7
URL:https://imaging-austria.pages.ist.ac.at/event/demonstration-teledyne-cameras-qc-discussion/
LOCATION:ISTA\, Am Campus 1\, Klosterneuburg\, 3400\, Austria
CATEGORIES:Demo
ORGANIZER;CN="ISTA":MAILTO:iof@ist.ac.at
END:VEVENT
END:VCALENDAR