BEGIN:VCALENDAR
VERSION:2.0
PRODID:-//Imaging Austria - ECPv6.15.20//NONSGML v1.0//EN
CALSCALE:GREGORIAN
METHOD:PUBLISH
X-WR-CALNAME:Imaging Austria
X-ORIGINAL-URL:https://imaging-austria.pages.ist.ac.at
X-WR-CALDESC:Events for Imaging Austria
REFRESH-INTERVAL;VALUE=DURATION:PT1H
X-Robots-Tag:noindex
X-PUBLISHED-TTL:PT1H
BEGIN:VTIMEZONE
TZID:Europe/Vienna
BEGIN:DAYLIGHT
TZOFFSETFROM:+0100
TZOFFSETTO:+0200
TZNAME:CEST
DTSTART:20250330T010000
END:DAYLIGHT
BEGIN:STANDARD
TZOFFSETFROM:+0200
TZOFFSETTO:+0100
TZNAME:CET
DTSTART:20251026T010000
END:STANDARD
BEGIN:DAYLIGHT
TZOFFSETFROM:+0100
TZOFFSETTO:+0200
TZNAME:CEST
DTSTART:20260329T010000
END:DAYLIGHT
BEGIN:STANDARD
TZOFFSETFROM:+0200
TZOFFSETTO:+0100
TZNAME:CET
DTSTART:20261025T010000
END:STANDARD
BEGIN:DAYLIGHT
TZOFFSETFROM:+0100
TZOFFSETTO:+0200
TZNAME:CEST
DTSTART:20270328T010000
END:DAYLIGHT
BEGIN:STANDARD
TZOFFSETFROM:+0200
TZOFFSETTO:+0100
TZNAME:CET
DTSTART:20271031T010000
END:STANDARD
END:VTIMEZONE
BEGIN:VEVENT
DTSTART;TZID=Europe/Vienna:20260922T080000
DTEND;TZID=Europe/Vienna:20260922T170000
DTSTAMP:20260421T232615
CREATED:20260409T134158Z
LAST-MODIFIED:20260409T134158Z
UID:383-1790064000-1790096400@imaging-austria.pages.ist.ac.at
SUMMARY:Austrian BioOptics Meeting 2026
DESCRIPTION:Name Organizer / Contact person:\nJosef Gotzmann / Katy Schmidt\n\n\nName Institution:\nUniversity of Vienna\n\n\n\n\n\n\nChoose a event catagory:\nMeeting\n\n\nEvent Title:\nBioOptics Meeting 2026\n\n\nStart Date / Time:\n09/22/2026 00:00\n\n\nEnd Date / Time:\n09/22/2026 00:00\n\n\nEvent text / abstract:\nDetails will follow\n\n\nEvent participation options:\nHybrid\n\n\nEvent Location Name:\nUBB\n\n\nEVENT URL (On-line & Hybrid):\n\n\n\nEvent location Address:\n\n\n\nZip:\n1030\n\n\nCity:\nVienna
URL:https://imaging-austria.pages.ist.ac.at/event/austrian-biooptics-meeting-2026/
LOCATION:Uni Wien / UBB / CIUS\, Djerassiplatz 1\, Vienna\, 1030\, Austria
CATEGORIES:Meeting
ORGANIZER;CN="Katy Schmidt":MAILTO:katy.schmidt@univie.ac.at
END:VEVENT
END:VCALENDAR