BEGIN:VCALENDAR
VERSION:2.0
PRODID:-//Imaging Austria - ECPv6.15.20//NONSGML v1.0//EN
CALSCALE:GREGORIAN
METHOD:PUBLISH
X-ORIGINAL-URL:https://imaging-austria.pages.ist.ac.at
X-WR-CALDESC:Events for Imaging Austria
REFRESH-INTERVAL;VALUE=DURATION:PT1H
X-Robots-Tag:noindex
X-PUBLISHED-TTL:PT1H
BEGIN:VTIMEZONE
TZID:Europe/Vienna
BEGIN:DAYLIGHT
TZOFFSETFROM:+0100
TZOFFSETTO:+0200
TZNAME:CEST
DTSTART:20240331T010000
END:DAYLIGHT
BEGIN:STANDARD
TZOFFSETFROM:+0200
TZOFFSETTO:+0100
TZNAME:CET
DTSTART:20241027T010000
END:STANDARD
BEGIN:DAYLIGHT
TZOFFSETFROM:+0100
TZOFFSETTO:+0200
TZNAME:CEST
DTSTART:20250330T010000
END:DAYLIGHT
BEGIN:STANDARD
TZOFFSETFROM:+0200
TZOFFSETTO:+0100
TZNAME:CET
DTSTART:20251026T010000
END:STANDARD
BEGIN:DAYLIGHT
TZOFFSETFROM:+0100
TZOFFSETTO:+0200
TZNAME:CEST
DTSTART:20260329T010000
END:DAYLIGHT
BEGIN:STANDARD
TZOFFSETFROM:+0200
TZOFFSETTO:+0100
TZNAME:CET
DTSTART:20261025T010000
END:STANDARD
END:VTIMEZONE
BEGIN:VEVENT
DTSTART;TZID=Europe/Vienna:20250915T150000
DTEND;TZID=Europe/Vienna:20250915T160000
DTSTAMP:20260420T212619
CREATED:20250509T075128Z
LAST-MODIFIED:20250509T075647Z
UID:310-1757948400-1757952000@imaging-austria.pages.ist.ac.at
SUMMARY:pre-announcement: Correlative Light Electron Microscopy - CLEM- seminar (Erin Tranfield - VIB) @ISTA
DESCRIPTION:Erin Tranfield is an has more than 20 years of biological electron microscopy experience with expertise in room temperature EM\, cryo-immobilization\, electron tomography\, CLEM. \n  \nISTA\, \nAm Campus 1\, Klosterneuburg \ni01 – Central Building; \nSeminar Room Mondi 3
URL:https://imaging-austria.pages.ist.ac.at/event/pre-announcement-correlative-light-electron-microscopy-clem-seminar-erin-tranfield-vib-ista/
LOCATION:ISTA\, Am Campus 1\, Klosterneuburg\, 3400\, Austria
CATEGORIES:Seminar
ORGANIZER;CN="ISTA":MAILTO:iof@ist.ac.at
END:VEVENT
BEGIN:VEVENT
DTSTART;TZID=Europe/Vienna:20250617T093000
DTEND;TZID=Europe/Vienna:20250617T110000
DTSTAMP:20260420T212619
CREATED:20250507T124709Z
LAST-MODIFIED:20250516T120848Z
UID:307-1750152600-1750158000@imaging-austria.pages.ist.ac.at
SUMMARY:ISTA: Seminar - Novel Staining Strategies for Advanced Imaging Applications
DESCRIPTION:The Imaging & Optics Facility ( IOF ) at the Institute of Science and Technology Austria (ISTA) is hosting a seminar by Dr. Dawid Lbik. This seminar serves as a pre-seminar for a hands-on staining strategy workshop\, aiming to introduce the newest labeling approaches for emerging technologies in superresolution\, spatial-omics\, and large-panel stainings. These are all fields that have seen significant technological developments and are rapidly gaining popularity across research fields and imaging applications. \nAs the person responsible for Abberior Dyes and Labels in Central Europe\, Dr. Dawid Lbik can provide insights into both academic and commercial trends. Overall\, concepts and considerations of tagging and linking options\, dye properties\, and staining strategies will be introduced\, followed by a Q&A session for planning a ‘follow-up’ hands-on session – that will be hosted at ISTA in the second half of 2025. \nDate/time on  June 17\, 2025 – 9:30h\, Seminar Room Mondi 1 \nWith illuminating regards\, \nYour Imaging and Optics Facility
URL:https://imaging-austria.pages.ist.ac.at/event/ista-seminar-novel-staining-strategies-for-advanced-imaging-applications/
LOCATION:ISTA\, Am Campus 1\, Klosterneuburg\, 3400\, Austria
CATEGORIES:Seminar
ORGANIZER;CN="ISTA":MAILTO:iof@ist.ac.at
END:VEVENT
BEGIN:VEVENT
DTSTART;TZID=Europe/Vienna:20250506T130000
DTEND;TZID=Europe/Vienna:20250506T140000
DTSTAMP:20260420T212619
CREATED:20250430T060944Z
LAST-MODIFIED:20250430T060944Z
UID:302-1746536400-1746540000@imaging-austria.pages.ist.ac.at
SUMMARY:LUMICKS Optical Trap Seminar
DESCRIPTION:The Imaging and Optics Facility at ISTA is hosting the following seminar: \nJoin us for a seminar titled “Unravelling biological mechanisms by manipulating and visualizing single molecules in real-time” by Daphne Jurriens (Field Application Scientist at LUMICKS). \nMore details can be found at the event website.
URL:https://imaging-austria.pages.ist.ac.at/event/lumicks-optical-trap-seminar/
LOCATION:ISTA\, Am Campus 1\, Klosterneuburg\, 3400\, Austria
CATEGORIES:Seminar
ORGANIZER;CN="ISTA":MAILTO:iof@ist.ac.at
END:VEVENT
END:VCALENDAR