BEGIN:VCALENDAR
VERSION:2.0
PRODID:-//Imaging Austria - ECPv6.15.20//NONSGML v1.0//EN
CALSCALE:GREGORIAN
METHOD:PUBLISH
X-ORIGINAL-URL:https://imaging-austria.pages.ist.ac.at
X-WR-CALDESC:Events for Imaging Austria
REFRESH-INTERVAL;VALUE=DURATION:PT1H
X-Robots-Tag:noindex
X-PUBLISHED-TTL:PT1H
BEGIN:VTIMEZONE
TZID:Europe/Vienna
BEGIN:DAYLIGHT
TZOFFSETFROM:+0100
TZOFFSETTO:+0200
TZNAME:CEST
DTSTART:20230326T010000
END:DAYLIGHT
BEGIN:STANDARD
TZOFFSETFROM:+0200
TZOFFSETTO:+0100
TZNAME:CET
DTSTART:20231029T010000
END:STANDARD
BEGIN:DAYLIGHT
TZOFFSETFROM:+0100
TZOFFSETTO:+0200
TZNAME:CEST
DTSTART:20240331T010000
END:DAYLIGHT
BEGIN:STANDARD
TZOFFSETFROM:+0200
TZOFFSETTO:+0100
TZNAME:CET
DTSTART:20241027T010000
END:STANDARD
BEGIN:DAYLIGHT
TZOFFSETFROM:+0100
TZOFFSETTO:+0200
TZNAME:CEST
DTSTART:20250330T010000
END:DAYLIGHT
BEGIN:STANDARD
TZOFFSETFROM:+0200
TZOFFSETTO:+0100
TZNAME:CET
DTSTART:20251026T010000
END:STANDARD
BEGIN:DAYLIGHT
TZOFFSETFROM:+0100
TZOFFSETTO:+0200
TZNAME:CEST
DTSTART:20260329T010000
END:DAYLIGHT
BEGIN:STANDARD
TZOFFSETFROM:+0200
TZOFFSETTO:+0100
TZNAME:CET
DTSTART:20261025T010000
END:STANDARD
END:VTIMEZONE
BEGIN:VEVENT
DTSTART;TZID=Europe/Vienna:20250521T090000
DTEND;TZID=Europe/Vienna:20250521T170000
DTSTAMP:20260420T222253
CREATED:20250505T140436Z
LAST-MODIFIED:20250505T140436Z
UID:304-1747818000-1747846800@imaging-austria.pages.ist.ac.at
SUMMARY:ISTA: 1-day Bootcamp: Introduction to Image Analysis (2025)
DESCRIPTION:The Imaging and Optics Facility at ISTA is organizing a 1 day 1-day Bootcamp: Introduction to Image Analysis\, supported by visiting scientist Dinah Leurke on May 21\, 2025 (9:00h – 17:00h) on  ISTA campus –  seminar room F. \nThe morning session will be made available in hybrid. \nMore info is available at the event link.
URL:https://imaging-austria.pages.ist.ac.at/event/ista-1-day-bootcamp-introduction-to-image-analysis-2025/
LOCATION:ISTA\, Am Campus 1\, Klosterneuburg\, 3400\, Austria
CATEGORIES:Teaching
ORGANIZER;CN="ISTA":MAILTO:iof@ist.ac.at
END:VEVENT
BEGIN:VEVENT
DTSTART;TZID=Europe/Vienna:20241119T160000
DTEND;TZID=Europe/Vienna:20241119T170000
DTSTAMP:20260420T222253
CREATED:20241111T122101Z
LAST-MODIFIED:20241111T122101Z
UID:254-1732032000-1732035600@imaging-austria.pages.ist.ac.at
SUMMARY:Intro Seminar – Lattice Lightsheet Microscopy – Discover the subcellular dynamics of life\, by Christine Strasser (Zeiss)
DESCRIPTION:The Imaging and Optics Facility is expanding its services with a Lattice Light Sheet microscope\, that also brings a new technology to its equipment park.To best introduce this new technology\, the Zeiss Lattice Lightsheet 7 will be introduced by Dr. Christine Strasser\, Imaging specialist at Zeiss with a seminar entitled “Discover the subcellular dynamics of life” \n\nDate: Tuesday November 19\,\nTime 16-16:45h\,\nLocation: ISTA – Seminar Room 2nd floor BFB\nHybrid: click to Join Seminar online  (Meeting ID: 682 8462 4713)\n\nmore details ->
URL:https://imaging-austria.pages.ist.ac.at/event/intro-seminar-lattice-lightsheet-microscopy-discover-the-subcellular-dynamics-of-life-by-christine-strasser-zeiss/
LOCATION:ISTA\, Am Campus 1\, Klosterneuburg\, 3400\, Austria
CATEGORIES:Teaching
ORGANIZER;CN="ISTA":MAILTO:iof@ist.ac.at
END:VEVENT
BEGIN:VEVENT
DTSTART;TZID=Europe/Vienna:20241015T080000
DTEND;TZID=Europe/Vienna:20241017T170000
DTSTAMP:20260420T222253
CREATED:20240924T074644Z
LAST-MODIFIED:20240924T074709Z
UID:246-1728979200-1729184400@imaging-austria.pages.ist.ac.at
SUMMARY:ISTA - Workshop: Tissue Clearing: from sample to imaging | October 15 – 17 (3 days)
DESCRIPTION:Tissue Clearing: from sample to imaging | October 15 – 17 (3 days)\n\n\n\nCourse Language: English\nLocation: ISTA Klosterneuburg\, Austria\nIn microscopy\, optical clearing emerges as an essential technique to overcome the problem of opacity in biological tissue. \n\nOver the course of three days you will practice different techniques of tissue clearing yourself.\nExperts for ECI and Cubic Clearing will support you and share their knowledge in different theoretical introductions.\nYou will image your cleared sample on different ZEISS systems and imaging technologies (Lightsheet\, Axio Zoom\, LSM 980).\nYou are welcome to bring your own sample.\n\nTarget Group: Researchers in Life Science. Basic experience in imaging is of advantage.\nTrainer: Wolf Heusermann\nCourse Fee: 900\,-  Catering for the three days as well as the usage of all systems and clearing solutions are included.\nTissue Clearing Workshop-ISTA_15.10. – 17.10._flyer-a4
URL:https://imaging-austria.pages.ist.ac.at/event/workshop-tissue-clearing-from-sample-to-imaging-october-15-17-3-days/
LOCATION:ISTA\, Am Campus 1\, Klosterneuburg\, 3400\, Austria
CATEGORIES:Teaching
ORGANIZER;CN="ISTA":MAILTO:iof@ist.ac.at
END:VEVENT
END:VCALENDAR